BEGIN:VCALENDAR
PRODID:-//Calendar export
VERSION:2.0
X-WR-TIMEZONE:Etc/GMT
BEGIN:VTIMEZONE
TZID:GMT Standard Time
BEGIN:STANDARD
TZOFFSETFROM:+0000
TZOFFSETTO:+0000
END:STANDARD
END:VTIMEZONE
BEGIN:VEVENT
UID:AE8041
DTSTAMP:20260424T051700Z
SUMMARY:From Prison to Purpose: Dave's Killer Bread Founder Coming 
 to Stockton fo
 r Second Chances Job Fair
CLASS:PUBLIC
DESCRIPTION: If you've ever grabbed a loaf of Dave's Killer Bread off a
  grocery store
  shelf\, you've already been a small part of one of the most remarkable c
 omeback stories in American business history. Now\, ...
STATUS:CONFIRMED
PRIORITY:1
DTSTART:20260426T170000Z
DTEND:20260426T210000Z
TRANSP:OPAQUE
END:VEVENT
END:VCALENDAR
