BEGIN:VCALENDAR
PRODID:-//Calendar export
VERSION:2.0
X-WR-TIMEZONE:Etc/GMT
BEGIN:VTIMEZONE
TZID:GMT Standard Time
BEGIN:STANDARD
TZOFFSETFROM:+0000
TZOFFSETTO:+0000
END:STANDARD
END:VTIMEZONE
BEGIN:VEVENT
UID:AE8053
DTSTAMP:20260420T205300Z
SUMMARY:San Joaquin County Offers Safe Prescription Drug Disposal D
 uring National
  Take Back Day
CLASS:PUBLIC
DESCRIPTION: San Joaquin County residents will have a safe and simple w
 ay to clear ou
 t old\, expired\, or unwanted medications this Saturday. 

 On  Saturday\
 , April 25\, 2026 \, from  10:00 a.m. to 2:00 p.m. \, San ...
STATUS:CONFIRMED
PRIORITY:1
DTSTART:20260425T170000Z
DTEND:20260425T210000Z
TRANSP:OPAQUE
END:VEVENT
END:VCALENDAR
