BEGIN:VCALENDAR
PRODID:-//Calendar export
VERSION:2.0
X-WR-TIMEZONE:Etc/GMT
BEGIN:VTIMEZONE
TZID:GMT Standard Time
BEGIN:STANDARD
TZOFFSETFROM:+0000
TZOFFSETTO:+0000
END:STANDARD
END:VTIMEZONE
BEGIN:VEVENT
UID:AE8055
DTSTAMP:20260420T205000Z
SUMMARY:San Joaquin Asparagus Festival Returns to Stockton April 24
 –26
CLASS:PUBLIC
DESCRIPTION: Stockton’s tastiest spring tradition is back. 

 The  2026
  San Joaquin A
 sparagus Festival  returns to the  San Joaquin County Fairgrounds  from  
 Friday\, April 24 through Sunday\, April 26 \, bringing ...
STATUS:CONFIRMED
PRIORITY:1
DTSTART:20260424T070000Z
DTEND:20260427T065900Z
TRANSP:OPAQUE
END:VEVENT
END:VCALENDAR
