BEGIN:VCALENDAR
PRODID:-//Calendar export
VERSION:2.0
X-WR-TIMEZONE:Etc/GMT
BEGIN:VTIMEZONE
TZID:GMT Standard Time
BEGIN:STANDARD
TZOFFSETFROM:+0000
TZOFFSETTO:+0000
END:STANDARD
END:VTIMEZONE
BEGIN:VEVENT
UID:AE8057
DTSTAMP:20260423T195300Z
SUMMARY:Fremont Elementary to Celebrate Student Creativity at Multi
 cultural Arts 
 Festival
CLASS:PUBLIC
DESCRIPTION:  Free community event will showcase student performances\,
  hands-on artm
 aking and the school’s transformation through the arts  

 Fremont Elemen
 tary will welcome families\, students and community ...
STATUS:CONFIRMED
PRIORITY:1
DTSTART:20260425T170000Z
DTEND:20260425T210000Z
TRANSP:OPAQUE
END:VEVENT
END:VCALENDAR
