BEGIN:VCALENDAR
PRODID:-//Calendar export
VERSION:2.0
X-WR-TIMEZONE:Etc/GMT
BEGIN:VTIMEZONE
TZID:GMT Standard Time
BEGIN:STANDARD
TZOFFSETFROM:+0000
TZOFFSETTO:+0000
END:STANDARD
END:VTIMEZONE
BEGIN:VEVENT
UID:AE8059
DTSTAMP:20260423T195700Z
SUMMARY:Cherokee Memorial Park to Host 86th Annual Memorial Day Eve
 nt and Service
 
CLASS:PUBLIC
DESCRIPTION:  Free community event in Lodi will honor veterans with Ave
 nue of Flags\,
  Field of Flags\, rifle salute\, dove release and Missing Man Formation f
 lyover  

 Cherokee Memorial Park & Funeral Home will ...
STATUS:CONFIRMED
PRIORITY:1
DTSTART:20260425T173000Z
DTEND:20260425T183000Z
TRANSP:OPAQUE
END:VEVENT
END:VCALENDAR
